BEGIN:VCALENDAR
VERSION:2.0
X-WR-CALNAME: Upcoming shows
PRODID:GIGPRESS 2.0 WORDPRESS PLUGIN
CALSCALE:GREGORIAN
X-WR-TIMEZONE:Etc/GMT
METHOD:PUBLISH
BEGIN:VTIMEZONE
TZID:GMT
BEGIN:STANDARD
DTSTART:20071028T010000
TZOFFSETTO:+0000
TZOFFSETFROM:+0000
END:STANDARD
END:VTIMEZONE
BEGIN:VEVENT
SUMMARY:Workshop at Sheffield Pattern Club
DESCRIPTION:
LOCATION:Sheffield Pattern Club\, Sheffield\, UK
UID:20260420-509-alex@slab.org
URL:https://slab.org
DTSTART;VALUE=DATE;TZID=GMT:20260420
DTEND;VALUE=DATE;TZID=GMT:20260424
DTSTAMP:20260421T093603Z
END:VEVENT
BEGIN:VEVENT
SUMMARY:Epiploke (Collab with Heavy LIfting) at Folklore
DESCRIPTION:
LOCATION:Folklore\, London\, UK
UID:20260427-504-alex@slab.org
URL:https://slab.org
DTSTART;VALUE=DATE;TZID=GMT:20260427
DTEND;VALUE=DATE;TZID=GMT:20260427
DTSTAMP:20260421T093603Z
END:VEVENT
BEGIN:VEVENT
SUMMARY:Epiploke (Collab with Heavy LIfting) at Dortmunder U
DESCRIPTION:
LOCATION:Dortmunder U\, Dortmund\, DE
UID:20260429-505-alex@slab.org
URL:https://slab.org
DTSTART;VALUE=DATE;TZID=GMT:20260429
DTEND;VALUE=DATE;TZID=GMT:20260429
DTSTAMP:20260421T093603Z
END:VEVENT
BEGIN:VEVENT
SUMMARY:Epiploke (Collab with Heavy LIfting) at TOPLAP Karlsruhe
DESCRIPTION:
LOCATION:TOPLAP Karlsruhe\, Karlsruhe\, DE
UID:20260430-503-alex@slab.org
URL:https://slab.org
DTSTART;VALUE=DATE;TZID=GMT:20260430
DTEND;VALUE=DATE;TZID=GMT:20260430
DTSTAMP:20260421T093603Z
END:VEVENT
BEGIN:VEVENT
SUMMARY:Epiploke (Collab with Heavy LIfting) at Ground zero
DESCRIPTION:
LOCATION:Ground zero\, Lyon\, FR
UID:20260502-506-alex@slab.org
URL:https://slab.org
DTSTART;VALUE=DATE;TZID=GMT:20260502
DTEND;VALUE=DATE;TZID=GMT:20260502
DTSTAMP:20260421T093603Z
END:VEVENT
BEGIN:VEVENT
SUMMARY:Workshop at IMAL
DESCRIPTION:Notes: Two-day workshop in collaboration with th4\, as part of The Cookery 
LOCATION:IMAL\, Brussels\, BE
UID:20260530-508-alex@slab.org
URL:https://slab.org
DTSTART;VALUE=DATE;TZID=GMT:20260530
DTEND;VALUE=DATE;TZID=GMT:20260601
DTSTAMP:20260421T093603Z
END:VEVENT
BEGIN:VEVENT
SUMMARY:Festival at Errorcamp
DESCRIPTION:
LOCATION:Errorcamp\, Secret lotation\, UK
UID:20260723-510-alex@slab.org
URL:https://slab.org
DTSTART;VALUE=DATE;TZID=GMT:20260723
DTEND;VALUE=DATE;TZID=GMT:20260727
DTSTAMP:20260421T093603Z
END:VEVENT
BEGIN:VEVENT
SUMMARY:Algorave at Sidney + Matilda
DESCRIPTION:
LOCATION:Sidney + Matilda\, Sheffield\, UK
UID:20260730-507-alex@slab.org
URL:https://slab.org
DTSTART;VALUE=DATE;TZID=GMT:20260730
DTEND;VALUE=DATE;TZID=GMT:20260730
DTSTAMP:20260421T093603Z
END:VEVENT
END:VCALENDAR